BEGIN:VCALENDAR
VERSION:2.0
PRODID:-//Aikido Iaido Shobukan Wien - ECPv5.16.3.1//NONSGML v1.0//EN
CALSCALE:GREGORIAN
METHOD:PUBLISH
X-WR-CALNAME:Aikido Iaido Shobukan Wien
X-ORIGINAL-URL:https://aikido-wien.at
X-WR-CALDESC:Veranstaltungen für Aikido Iaido Shobukan Wien
BEGIN:VTIMEZONE
TZID:Europe/Paris
BEGIN:DAYLIGHT
TZOFFSETFROM:+0100
TZOFFSETTO:+0200
TZNAME:CEST
DTSTART:20260329T010000
END:DAYLIGHT
BEGIN:STANDARD
TZOFFSETFROM:+0200
TZOFFSETTO:+0100
TZNAME:CET
DTSTART:20261025T010000
END:STANDARD
END:VTIMEZONE
BEGIN:VEVENT
DTSTART;TZID=Europe/Paris:20260420T190000
DTEND;TZID=Europe/Paris:20260420T210000
DTSTAMP:20260420T160249
CREATED:20260416T070059Z
LAST-MODIFIED:20260416T121737Z
UID:3539-1776711600-1776718800@aikido-wien.at
SUMMARY:Aikido\, das Besondere für Erwachsene in 1050 Wien
DESCRIPTION:Spar dir das Fitness Center und steigere deine Kraft mit Bewegungstraining und Sinn.\nEntdecke die Kraft deiner Mitte und finde Ruhe im Geist.\nÖffne den Zugang zu deiner Vitalkraft und lerne sie zu nutzen. \nAuf zum SCHNUPPER-TRAINING für Erwachsene\, Jugendliche oder Kinder ab 7 Jahren.\nLust auf reale Aktivität und Interaktion mit anderen Japan Fans?\nDu brauchst dazu eine lange Trainingshose\, ein T-Shirt und ein kleines Handtuch. Geübt wird barfuß.\nDer Probetrainingsbeitrag beträgt 25 € ( 15 für Kinder und Jugendliche) pro Probetraining. 2 Schnupperklassen sind maximal möglich. \nMontag 1050 Wien\, Spengergasse 20\, HTL\n19.00 bis 20.45 Uhr\, Erwachsene\nDonnerstag 1050 Wien\, Spengergasse 20\, HTL\n18.00 bis 19.00 Uhr\, Jugendliche und Kinder\,\n19.00 bis 20.45 Uhr\, Erwachsene\nDienstag 1130 Wien\, Wenzgasse 7\, GRG\n18.00 bis 19.00 Uhr\, Jugendliche und Kinder\,\n19.00 bis 20.45 Uhr\, Erwachsene \nBitte nur mit Anmeldung kommen. \n#netflix #last samurai #japan #Kirschbluete #sushi #kampfkunst #selbstverteidigung #yoga #pilates #karate #judo #matcha #gesund
URL:https://aikido-wien.at/veranstaltungen/aikido-1050-wien-fuer-kinder-ab-7-jahren-und-jugendliche-2/
LOCATION:Shobukan Aikido Iaido Dojo\, HTL Spengergasse 20\, Wien\, Wien\, 1050\, Österreich
CATEGORIES:Kurse
ATTACH;FMTTYPE=image/jpeg:https://aikido-wien.at/wp-content/uploads/2018/05/Dein-Aikido-Raum-2000px.jpg
END:VEVENT
END:VCALENDAR